BEGIN:VCALENDAR
PRODID:-//eluceo/ical//2.0/EN
VERSION:2.0
CALSCALE:GREGORIAN
BEGIN:VEVENT
UID:9594e91e9cfec0b8a1e5a7fcabf27870
DTSTAMP:20260421T102236Z
SUMMARY:Réunion Statutaire  (Le Mosa)
DESCRIPTION:
URL:https://vallee-du-geer.rotary2160.org/nl/agenda/show/47277
DTSTART;TZID=Europe/Zurich:20230517T193000
DTEND;TZID=Europe/Zurich:20230517T220000
LOCATION:Le Mosa
CATEGORIES:Rotary
END:VEVENT
BEGIN:VTIMEZONE
TZID:Europe/Zurich
BEGIN:DAYLIGHT
DTSTART:20230517T193000
TZNAME:CEST
TZOFFSETTO:+0200
TZOFFSETFROM:+0200
END:DAYLIGHT
END:VTIMEZONE
END:VCALENDAR
