BEGIN:VCALENDAR
PRODID:-//eluceo/ical//2.0/EN
VERSION:2.0
CALSCALE:GREGORIAN
BEGIN:VEVENT
UID:08503fb9597f96bc45c7a2d23222d287
DTSTAMP:20260421T102316Z
SUMMARY:Réunion Statutaire  (Le Mosa)
DESCRIPTION:
URL:https://vallee-du-geer.rotary2160.org/nl/agenda/show/47267
DTSTART;TZID=Europe/Zurich:20230308T193000
DTEND;TZID=Europe/Zurich:20230308T220000
LOCATION:Le Mosa
CATEGORIES:Rotary
END:VEVENT
BEGIN:VTIMEZONE
TZID:Europe/Zurich
BEGIN:STANDARD
DTSTART:20230308T193000
TZNAME:CET
TZOFFSETTO:+0100
TZOFFSETFROM:+0100
END:STANDARD
END:VTIMEZONE
END:VCALENDAR
